BEGIN:VCALENDAR
VERSION:2.0
PRODID:-//Faewood Grove - ECPv6.15.20//NONSGML v1.0//EN
CALSCALE:GREGORIAN
METHOD:PUBLISH
X-ORIGINAL-URL:https://faewoodgrove.com
X-WR-CALDESC:Events for Faewood Grove
REFRESH-INTERVAL;VALUE=DURATION:PT1H
X-Robots-Tag:noindex
X-PUBLISHED-TTL:PT1H
BEGIN:VTIMEZONE
TZID:America/Indiana/Indianapolis
BEGIN:DAYLIGHT
TZOFFSETFROM:-0500
TZOFFSETTO:-0400
TZNAME:EDT
DTSTART:20210314T070000
END:DAYLIGHT
BEGIN:STANDARD
TZOFFSETFROM:-0400
TZOFFSETTO:-0500
TZNAME:EST
DTSTART:20211107T060000
END:STANDARD
BEGIN:DAYLIGHT
TZOFFSETFROM:-0500
TZOFFSETTO:-0400
TZNAME:EDT
DTSTART:20220313T070000
END:DAYLIGHT
BEGIN:STANDARD
TZOFFSETFROM:-0400
TZOFFSETTO:-0500
TZNAME:EST
DTSTART:20221106T060000
END:STANDARD
BEGIN:DAYLIGHT
TZOFFSETFROM:-0500
TZOFFSETTO:-0400
TZNAME:EDT
DTSTART:20230312T070000
END:DAYLIGHT
BEGIN:STANDARD
TZOFFSETFROM:-0400
TZOFFSETTO:-0500
TZNAME:EST
DTSTART:20231105T060000
END:STANDARD
END:VTIMEZONE
BEGIN:VEVENT
DTSTART;TZID=America/Indiana/Indianapolis:20220506T160000
DTEND;TZID=America/Indiana/Indianapolis:20220508T140000
DTSTAMP:20260423T165248
CREATED:20220407T023701Z
LAST-MODIFIED:20220407T023750Z
UID:14-1651852800-1652018400@faewoodgrove.com
SUMMARY:Gaia 2022
DESCRIPTION:Come shake off the cold and celebrate The Mother over Mother’s Day weekend!!!\nCamping\, nature\, shrines\, fires to dance around\, and friends to relax with.\nChooba Dee performing Saturday night!!!\nBring your drums!\nWorkshops! Rituals! Networking! Drumming! 2 firepits to dance around!\nWe’re many shrines to many Pagan gods!\nAdmission is $50 for the weekend\,\n$30 for one day and night\n(16 and under is free)\nPitch in/shared meal on Saturday night.\nWe will have a bonfire and a few grills/charcoal to cook on for other meals if you need to cook.\nNo fires at camping sites.
URL:https://faewoodgrove.com/event/gaia-2022/
CATEGORIES:Gaia
END:VEVENT
END:VCALENDAR